BEGIN:VCALENDAR
VERSION:2.0
PRODID:-//Volt Europa//Events//EN
CALSCALE:GREGORIAN
METHOD:PUBLISH
BEGIN:VEVENT
UID:watch-along-dutch-exit-polls-1717698600@volteuropa.org
DTSTAMP:20260423T144338Z
DTSTART;TZID=Europe/Amsterdam:20240606T203000
DTEND;TZID=Europe/Amsterdam:20240606T213000
SUMMARY:Watch Along Dutch Exit Polls
DESCRIPTION:Join us from wherever you are around Europe to watch the Dutch 
 Exit polls come in\, and to find out the first indication of how we did thi
 s election campaign! Mike Winkel and Maartje de Vroege will be your hosts f
 or this.
LOCATION:Online
URL:https://volteuropa.org/events/watch-along-dutch-exit-polls
END:VEVENT
END:VCALENDAR
