BEGIN:VCALENDAR
VERSION:2.0
PRODID:-//Volt Europa//Events//EN
CALSCALE:GREGORIAN
METHOD:PUBLISH
BEGIN:VEVENT
UID:volt-europa-general-assembly-in-tirana-1732352400@volteuropa.org
DTSTAMP:20260423T110259Z
DTSTART;TZID=Europe/Amsterdam:20241123T100000
DTEND;TZID=Europe/Amsterdam:20241124T180000
SUMMARY:Volt Europa General Assembly in Tirana
DESCRIPTION:Taking Volt’s success beyond the EU’s borders. Wherever Vol
 t goes\, success follows.  After our GA in Bucharest\, Volt Romania gained 
 7 seats at the local level. Following our Campaign Kickoff event in Brussel
 s\, 5 of our members now sit there as Members of the European Parliament. H
 olding our GA in Albania is a testament to our intention to bring fresh ide
 as and positive energy into the Balkans’ political arena. This event is o
 pen to everybody with a ticket. Only Volt members that have been part f
LOCATION:Tirana International Hotel & Conference Center\, Sheshi Skënderbe
 j 8\, 1001 Tirana\, Albania
URL:https://volteuropa.org/events/volt-europa-general-assembly-in-tirana
END:VEVENT
END:VCALENDAR
