BEGIN:VCALENDAR
VERSION:2.0
PRODID:-//Volt Europa//Events//EN
CALSCALE:GREGORIAN
METHOD:PUBLISH
BEGIN:VEVENT
UID:volt-europa-general-assembly-bratislava-1781334000@volteuropa.org
DTSTAMP:20260421T122126Z
DTSTART;TZID=Europe/Amsterdam:20260613T090000
DTEND;TZID=Europe/Amsterdam:20260614T180000
SUMMARY:Volt Europa General Assembly Bratislava
DESCRIPTION:Central Europe is teetering on the edge of a crisis: democracy 
 under pressure and economies failing to reach their full potential.  In Oct
 ober 2026 there are local and regional elections in Slovakia. This moment a
 lso brings a rare opportunity for renewal. For Slovakia. For Volt. For Euro
 pe. That’s why we are organising our General Assembly in Slovakia - to  w
 in elections  in a country where there is so much potential.  Volt Europa G
 A in Bratislava 2026  will energise Volt Slovakia’s chances for 
LOCATION:Príkopova 6\, 831 03 Bratislava\, Slovakia
URL:https://volteuropa.org/events/volt-europa-general-assembly-bratislava
END:VEVENT
END:VCALENDAR
