BEGIN:VCALENDAR
VERSION:2.0
PRODID:-//Volt Europa//Events//EN
CALSCALE:GREGORIAN
METHOD:PUBLISH
BEGIN:VEVENT
UID:volt-discussion-series-digital-democracy-in-action-1714300200@volteurop
 a.org
DTSTAMP:20260422T103248Z
DTSTART;TZID=Europe/Amsterdam:20240428T123000
DTEND;TZID=Europe/Amsterdam:20240428T171500
SUMMARY:Volt Discussion Series: Digital Democracy in Action
DESCRIPTION:Join the Volt Discussions Series: Digital Democracy in Action A
 s the European Parliament elections approach\, your voice in shaping the di
 gital landscape is more critical than ever: Let's tackle misinformation and
  online hate speech\, while safeguarding freedom of expression and privacy.
  Explore how we can lead globally with digital technologies\, such as AI\, 
 chip technology\, and quantum computing\, while improving cybersecurity and
  responsible tech use. Contribute to the discussion to make public s
LOCATION:Mundo Madou\, Avenue des Arts 7-8\, 1210 Brussels
URL:https://volteuropa.org/events/volt-discussion-series-digital-democracy-
 in-action
END:VEVENT
END:VCALENDAR
