BEGIN:VCALENDAR
VERSION:2.0
PRODID:-//Volt Europa//Events//EN
CALSCALE:GREGORIAN
METHOD:PUBLISH
BEGIN:VEVENT
UID:towards-new-politics-event-with-volt-france-1757772000@volteuropa.org
DTSTAMP:20260423T110317Z
DTSTART;TZID=Europe/Amsterdam:20250913T160000
DTEND;TZID=Europe/Amsterdam:20250913T190000
SUMMARY:Towards New Politics! - Event with Volt France
DESCRIPTION:What if Europe became a truly political project again? At a tim
 e when European institutions often feel distant and disconnected\, it’s u
 rgent to reignite the debate about their purpose\, their direction\, their 
 legitimacy – and our role as citizens. That’s the ambition behind Volt 
 Europa’s event in Mulhouse: an afternoon of dialogue and collective refle
 ction to lay the groundwork for a new kind of European politics – one tha
 t is more democratic\, more local\, and more relevant to people’s lives. 
 ✳️  
LOCATION:Musée de l'automobile\, 17 rue de la Mertzau\, 68 100 Mulhouse
URL:https://volteuropa.org/events/towards-new-politics-event-with-volt-fran
 ce
END:VEVENT
END:VCALENDAR
