BEGIN:VCALENDAR
VERSION:2.0
PRODID:-//Volt Europa//Events//EN
CALSCALE:GREGORIAN
METHOD:PUBLISH
BEGIN:VEVENT
UID:tirana-general-assembly-1732348800@volteuropa.org
DTSTAMP:20260423T115728Z
DTSTART;TZID=Europe/Amsterdam:20241123T090000
DTEND;TZID=Europe/Amsterdam:20241124T180000
SUMMARY:Tirana General Assembly
DESCRIPTION:Taking Volt’s success beyond the EU’s borders. Wherever Vol
 t goes\, success follows.  After our GA in Bucharest\, Volt Romania gained 
 7 seats at the local level. Following our Campaign Kickoff event in Brussel
 s\, 5 of our members now sit there as Members of the European Parliament. H
 olding our GA in Albania is a testament to our intention to bring fresh ide
 as and positive energy into the Balkans’ political arena. Albania has bee
 n an official candidate for accession to the EU for over 10 years\, yet 
LOCATION:Sheshi Skënderbej 8\, Tirana 1001\, Albania
URL:https://volteuropa.org/events/tirana-general-assembly
END:VEVENT
END:VCALENDAR
