BEGIN:VCALENDAR
VERSION:2.0
PRODID:-//Volt Europa//Events//EN
CALSCALE:GREGORIAN
METHOD:PUBLISH
BEGIN:VEVENT
UID:the-future-of-housing-and-mobility-1748696400@volteuropa.org
DTSTAMP:20260423T114453Z
DTSTART;TZID=Europe/Amsterdam:20250531T150000
DTEND;TZID=Europe/Amsterdam:20250531T170000
SUMMARY:The future of housing and mobility
DESCRIPTION:The future of housing and mobility In this event\, we will disc
 uss topics related to the housing crisis on the European and the local leve
 l and its relation to mobility infrastructure! You can join the event onlin
 e via Youtube:  https://www.youtube.com/watch?v=ELuJhdSzqgE Or you can join
  the event in-person in Lille in France via registering at:  https://pretix
 .eu/volt-digicom/thomcom-may31/ In the first hour there are 2 presentations
  with Q/A and a short panel. The presentations of the first hou
LOCATION:Lille\, France
URL:https://volteuropa.org/events/the-future-of-housing-and-mobility
END:VEVENT
END:VCALENDAR
