BEGIN:VCALENDAR
VERSION:2.0
PRODID:-//Volt Europa//Events//EN
CALSCALE:GREGORIAN
METHOD:PUBLISH
BEGIN:VEVENT
UID:show-up-for-europe-1717228800@volteuropa.org
DTSTAMP:20260423T115159Z
DTSTART;TZID=Europe/Amsterdam:20240601T100000
DTEND;TZID=Europe/Amsterdam:20240601T220000
SUMMARY:Show Up for Europe
DESCRIPTION:Across the continent\, Volt teams will be on the streets to sho
 w up against nationalism and for a united EU! “ Volt was founded because 
 we live in a world where  no national government can solve cross-border cha
 llenges alone.  Volt is leading by example:  we are running in these Europ
 ean elections to connect best practices all over the continent while  foste
 ring a true European democracy. ” On the 1st of June\, Volters from Portu
 gal all the way to Cyprus will organize events and local actions to s
LOCATION:Meet Volt in over 10 locations!
URL:https://volteuropa.org/events/show-up-for-europe
END:VEVENT
END:VCALENDAR
