BEGIN:VCALENDAR
VERSION:2.0
PRODID:-//Volt Europa//Events//EN
CALSCALE:GREGORIAN
METHOD:PUBLISH
BEGIN:VEVENT
UID:schengen-march-1715238000@volteuropa.org
DTSTAMP:20260422T120839Z
DTSTART;TZID=Europe/Amsterdam:20240509T090000
DTEND;TZID=Europe/Amsterdam:20240509T180000
SUMMARY:Schengen March
DESCRIPTION:On the 16th of March 2019\, Volt Germany\, Volt Luxembourg & Vo
 lt France organised a cross-border march which stopped in Apach (FR)\, Perl
  (DE) and finally Schengen (LU). 5 years later\, we are recreating this su
 ccessful event to show the pan-European nature of our movement. This event 
 will take place on 9 May\, when the European Union celebrates Europe Day to
  commemorate the Schuman declaration. This declaration\, held in 1950 by th
 e then French Foreign Minister\, is now considered the founding act of
LOCATION:Apach (FR)\, Perl (DE)\, & Schengen (LU)
URL:https://volteuropa.org/events/schengen-march
END:VEVENT
END:VCALENDAR
