BEGIN:VCALENDAR
VERSION:2.0
PRODID:-//Volt Europa//Events//EN
CALSCALE:GREGORIAN
METHOD:PUBLISH
BEGIN:VEVENT
UID:online-annual-assembly-1751103600@volteuropa.org
DTSTAMP:20260423T110741Z
DTSTART;TZID=Europe/Amsterdam:20250628T114000
DTEND;TZID=Europe/Amsterdam:20250628T141500
SUMMARY:Online Annual Assembly
DESCRIPTION:The theme ‘Improving Collaboration between Chapters and Ignit
 ing Engagement’ will be our next Annual Assembly taking place  online \, 
 bringing together Volters from across the continent to reflect\, decide and
  move forward together. Whether you are a new member or a long-time Volt ac
 tivist\, the GA is an opportunity to be part of meaningful conversations. T
 his annual gathering is where strategy meets community and where your voice
  helps guide the path ahead. See the agenda  here We will be sharing 
LOCATION:Online - Youtube
URL:https://volteuropa.org/events/online-annual-assembly
END:VEVENT
END:VCALENDAR
