BEGIN:VCALENDAR
VERSION:2.0
PRODID:-//Volt Europa//Events//EN
CALSCALE:GREGORIAN
METHOD:PUBLISH
BEGIN:VEVENT
UID:mep-townhall-event-1751385600@volteuropa.org
DTSTAMP:20260423T105558Z
DTSTART;TZID=Europe/Amsterdam:20250701T180000
DTEND;TZID=Europe/Amsterdam:20250701T220000
SUMMARY:Meet your Volt MEPs - Shape Europe's Future
DESCRIPTION:European Politics boring? Think again!  Join us on 1 July 2025 
 to meet four Volt Europa Members of European Parliament (MEPs)\, hear about
  their work\,and ask them all your questions.  Nela\, Damian\, Anna and Kai
  will join us in Copenhagen for an evening with talks\, Q&A and community d
 inner (fællesspisning). Stay tuned for the full programme of the evening\,
  but save the date and get your free ticket in the Eventbrite link below. S
 ee you there! This event is open to everyone.
LOCATION:Culture House Indre By\; 3 Charlotte Ammundsens Plads 1359 Københ
 avn Denmark
URL:https://volteuropa.org/events/mep-townhall-event
END:VEVENT
END:VCALENDAR
