BEGIN:VCALENDAR
VERSION:2.0
PRODID:-//Volt Europa//Events//EN
CALSCALE:GREGORIAN
METHOD:PUBLISH
BEGIN:VEVENT
UID:meet-volt-europa-1774198800@volteuropa.org
DTSTAMP:20260422T145835Z
DTSTART;TZID=Europe/Amsterdam:20260322T180000
DTEND;TZID=Europe/Amsterdam:20260322T200000
SUMMARY:Meet Volt Europa
DESCRIPTION:Do you want to get to know us? Then join us for an electrifying
  evening at the next  Meet Volt Europa  call! We’re hosting a fun and eng
 aging evening filled with activities designed to help you connect with fell
 ow Volters and explore the vibrant world of Volt Europa. Expect inspiring d
 ebates\, exciting quizzes\, and plenty of opportunities to meet both new an
 d long-time members from across Europe. Whether you're new to Volt or have 
 been around for a while\, we’d love to see you there! Don’t forget 
LOCATION:Online
URL:https://volteuropa.org/events/meet-volt-europa
END:VEVENT
END:VCALENDAR
