BEGIN:VCALENDAR
VERSION:2.0
PRODID:-//Volt Europa//Events//EN
CALSCALE:GREGORIAN
METHOD:PUBLISH
BEGIN:VEVENT
UID:from-fragmentation-to-integration-a-roadmap-towards-a-common-defence-fo
 r-europe-1757005200@volteuropa.org
DTSTAMP:20260423T111523Z
DTSTART;TZID=Europe/Amsterdam:20250904T190000
DTEND;TZID=Europe/Amsterdam:20250904T203000
SUMMARY:From Fragmentation to Integration – A Roadmap Towards a Common De
 fence for Europe
DESCRIPTION:We invite you to an  in-depth discussion on the future of Europ
 ean defence \, based on the study  “ Roadmap Towards a Common Defence for
  Europe ”  by the Centre for European Policy Studies (CEPS)\, commissione
 d by Charge Research Platform Volt.  You can read the full paper in English
  here:   link . We are honoured to welcome  Steven Blockmans \, principal a
 uthor of the CEPS/Charge study\, who will present the key findings and  out
 line how Europe can move from fragmented defence efforts towards a tru
LOCATION:Online
URL:https://volteuropa.org/events/from-fragmentation-to-integration-a-roadm
 ap-towards-a-common-defence-for-europe
END:VEVENT
END:VCALENDAR
