BEGIN:VCALENDAR
VERSION:2.0
PRODID:-//Volt Europa//Events//EN
CALSCALE:GREGORIAN
METHOD:PUBLISH
BEGIN:VEVENT
UID:farmers-with-or-without-borders-volt-ep-vision-local-borderstories-1751
 113800@volteuropa.org
DTSTAMP:20260423T114839Z
DTSTART;TZID=Europe/Amsterdam:20250628T143000
DTEND;TZID=Europe/Amsterdam:20250628T151500
SUMMARY:Farmers with or without borders: Volt EP vision & local borderstori
 es
DESCRIPTION:Volt envisions a Europe with closer cooperation\, where our pol
 itical association and representatives can effectively support Europeans\, 
 who live and work amongst others in border regions. Much of Europe's border
 land is rural and has many individuals employed in the agrifood sector\, wh
 ile the EU has a big influence on rural areas with agriculture and cohesion
  policy. It is therefore important to understand the challenges farmers fac
 e at borders and to identify whether these situations vary across
LOCATION:Online via YouTube
URL:https://volteuropa.org/events/farmers-with-or-without-borders-volt-ep-v
 ision-local-borderstories
END:VEVENT
END:VCALENDAR
