BEGIN:VCALENDAR
VERSION:2.0
PRODID:-//Volt Europa//Events//EN
CALSCALE:GREGORIAN
METHOD:PUBLISH
BEGIN:VEVENT
UID:evote-innovation-hub-tirana-1732276800@volteuropa.org
DTSTAMP:20260423T144005Z
DTSTART;TZID=Europe/Amsterdam:20241122T130000
DTEND;TZID=Europe/Amsterdam:20241122T173000
SUMMARY:Evote Innovation Hub - Volt Europa GA Pre-Event
DESCRIPTION:Join in Tirana or online to shape with us the future of digital
  voting & participation within and outside of Volt! The EUR Data Team\, EUR
  Tech Team\, and the Digital Affairs Thematic Community (DigiCom) are organ
 ising this Volt Europa GA pre-event to engage Volt in the multiple domains 
 of digitalisation. Participate in three intertwined workshops on data analy
 ses\, 'hacking' the internal IT (tech) or participate in policy op-ed creat
 ion on the Friday before the Volt GA. Expect amazing speakers\, en
LOCATION:Destil Creative Hub Tirana\, Zogu I Blvd\, Tirana\, Tirana County 
 1000
URL:https://volteuropa.org/events/evote-innovation-hub-tirana
END:VEVENT
END:VCALENDAR
