BEGIN:VCALENDAR
VERSION:2.0
PRODID:-//Volt Europa//Events//EN
CALSCALE:GREGORIAN
METHOD:PUBLISH
BEGIN:VEVENT
UID:events-happening-this-week-european-overview-1717884000@volteuropa.org
DTSTAMP:20260423T114448Z
DTSTART;TZID=Europe/Amsterdam:20240609T000000
DTEND;TZID=Europe/Amsterdam:20240610T000000
SUMMARY:Events Happening This Week: European Overview
DESCRIPTION:As the European election draws near\, Volt is intensifying its 
 pan-European campaign by hosting a series of exciting events across Europe.
  We invite you to join us in these engaging activities to support our campa
 ign\, volunteer\, and make a difference. Below is a detailed schedule of ou
 r events this week\, grouped by date to help you plan your participation. L
 et's come together to shape a brighter future for Europe! Monday June 3rd P
 urple Mechelen When: 19:00-22:30 Where: ViaVia Joker Reiscafé in M
LOCATION:Europe
URL:https://volteuropa.org/events/events-happening-this-week-european-overv
 iew
END:VEVENT
END:VCALENDAR
