BEGIN:VCALENDAR
VERSION:2.0
PRODID:-//Volt Europa//Events//EN
CALSCALE:GREGORIAN
METHOD:PUBLISH
BEGIN:VEVENT
UID:events-happening-next-week-european-overview-1716760680@volteuropa.org
DTSTAMP:20260423T162347Z
DTSTART;TZID=Europe/Amsterdam:20240526T235800
DTEND;TZID=Europe/Amsterdam:20240526T235900
SUMMARY:Events Happening this Week: European Overview
DESCRIPTION:As the European election draw near\, Volt is intensifying its p
 an-European campaign by hosting a series of exciting events across Europe. 
 We invite you to join us in these engaging activities to support our campai
 gn\, volunteer\, and make a difference. Below is a detailed schedule of our
  events this week\, grouped by date to help you plan your participation. Le
 t's come together to shape a brighter future for Europe! Thursday\, 23rd Ma
 y Debate Between Candidates for European Election When:  18:30 - 20
LOCATION:Various locations across Europe
URL:https://volteuropa.org/events/events-happening-next-week-european-overv
 iew
END:VEVENT
END:VCALENDAR
