BEGIN:VCALENDAR
VERSION:2.0
PRODID:-//Volt Europa//Events//EN
CALSCALE:GREGORIAN
METHOD:PUBLISH
BEGIN:VEVENT
UID:election-night-1717965000@volteuropa.org
DTSTAMP:20260423T114845Z
DTSTART;TZID=Europe/Amsterdam:20240609T223000
DTEND;TZID=Europe/Amsterdam:20240610T003000
SUMMARY:Election Night
DESCRIPTION:Join us for an electrifying evening as we celebrate the grand f
 inale of the campaign and reveal the much-anticipated results (in the form 
 of exit polls)! Irene Laochaisri and Rick Zednik will be your charismatic h
 osts\, guiding you through an exciting night filled with updates from the c
 hapters and live election results. Don’t miss out on the chance to share 
 in the suspense and joy with fellow supporters. Tune in on YouTube for an u
 nforgettable moment!
LOCATION:Online
URL:https://volteuropa.org/events/election-night
END:VEVENT
END:VCALENDAR
