BEGIN:VCALENDAR
VERSION:2.0
PRODID:-//Volt Europa//Events//EN
CALSCALE:GREGORIAN
METHOD:PUBLISH
BEGIN:VEVENT
UID:domocracy-volt-academy-training-1771441200@volteuropa.org
DTSTAMP:20260421T122248Z
DTSTART;TZID=Europe/Amsterdam:20260218T200000
DTEND;TZID=Europe/Amsterdam:20261125T213000
SUMMARY:DOmocracy - Volt Academy training
DESCRIPTION:A training on how to "do democracy" in practive by the Volt Aca
 demy Team. The sessions: 1. Feb 18th\, 20:00 - 21:30  How democratic are w
 e\, really?  Practicing democracy is demanding. We start by reflecting on 
 our own behaviour\, using a democratic compass that includes courage\, resp
 onsibility and conflict. In the first session\, we will form  Do-mocracy 
 peer circles : small peer groups to stay connected\, exchange experiences\,
  and support each other in practicing democracy every day. 2. May 20th\, 2
LOCATION:Zoom
URL:https://volteuropa.org/events/domocracy-volt-academy-training
END:VEVENT
END:VCALENDAR
