BEGIN:VCALENDAR
VERSION:2.0
PRODID:-//Volt Europa//Events//EN
CALSCALE:GREGORIAN
METHOD:PUBLISH
BEGIN:VEVENT
UID:cooperation-for-improvement-workers-rights-and-development-in-cooperati
 ves-1758978000@volteuropa.org
DTSTAMP:20260423T120533Z
DTSTART;TZID=Europe/Amsterdam:20250927T150000
DTEND;TZID=Europe/Amsterdam:20250927T170000
SUMMARY:Cooperation for improvement: Workers' rights and development in coo
 peratives
DESCRIPTION:In this event of the Work & Education Community (WeCom)\, we w
 ill discuss topics related to workers' rights in the context of cooperative
 s and the social economy more broadly. Discussion may also touch upon the d
 evelopment\, in terms of skills and education\, of workers as well as the c
 hallenges that the cooperative model may face. You can join the event in pe
 rson in Brussels\, Belgium. For more information and to register\, go to th
 is page:  https://pretix.eu/volt-digicom/wecom-sep27/ Or join online
LOCATION:Mundo Matongé (Mundo-b) Rue d'Edimbourg 26\, 1050 Ixelles\, Belgi
 um
URL:https://volteuropa.org/events/cooperation-for-improvement-workers-right
 s-and-development-in-cooperatives
END:VEVENT
END:VCALENDAR
