BEGIN:VCALENDAR
VERSION:2.0
PRODID:-//Volt Europa//Events//EN
CALSCALE:GREGORIAN
METHOD:PUBLISH
BEGIN:VEVENT
UID:celebrate-europe-day-with-volt-a-year-to-remember-1715205600@volteuropa
 .org
DTSTAMP:20260421T232857Z
DTSTART;TZID=Europe/Amsterdam:20240509T000000
DTEND;TZID=Europe/Amsterdam:20240510T000000
SUMMARY:Celebrate Europe Day with Volt — What’s Happening Across the Co
 ntinent?
DESCRIPTION:Join us on May 9th to celebrate Europe Day!   Volt  is runnin
 g the only truly Pan-European campaign this May/June for the next European 
 elections - we’re running on the same programme in every European Country
 . We are unashamedly pro-European\, and we believe that politics is about c
 itizens meeting and engaging together to create human bonds across borders.
  This is why we will be hosting several different events across Europe\, in
 cluding a European Pub Quiz\,  to celebrate our unity\, and diversity 
LOCATION:Multiple locations
URL:https://volteuropa.org/events/celebrate-europe-day-with-volt-a-year-to-
 remember
END:VEVENT
END:VCALENDAR
